BEGIN:VCALENDAR
VERSION:2.0
PRODID:-//Philosophische Praxis MILAN - ECPv6.15.20//NONSGML v1.0//EN
CALSCALE:GREGORIAN
METHOD:PUBLISH
X-WR-CALNAME:Philosophische Praxis MILAN
X-ORIGINAL-URL:https://www.philosophie-milan.de
X-WR-CALDESC:Veranstaltungen für Philosophische Praxis MILAN
REFRESH-INTERVAL;VALUE=DURATION:PT1H
X-Robots-Tag:noindex
X-PUBLISHED-TTL:PT1H
BEGIN:VTIMEZONE
TZID:Europe/Berlin
BEGIN:DAYLIGHT
TZOFFSETFROM:+0100
TZOFFSETTO:+0200
TZNAME:CEST
DTSTART:20240331T010000
END:DAYLIGHT
BEGIN:STANDARD
TZOFFSETFROM:+0200
TZOFFSETTO:+0100
TZNAME:CET
DTSTART:20241027T010000
END:STANDARD
BEGIN:DAYLIGHT
TZOFFSETFROM:+0100
TZOFFSETTO:+0200
TZNAME:CEST
DTSTART:20250330T010000
END:DAYLIGHT
BEGIN:STANDARD
TZOFFSETFROM:+0200
TZOFFSETTO:+0100
TZNAME:CET
DTSTART:20251026T010000
END:STANDARD
BEGIN:DAYLIGHT
TZOFFSETFROM:+0100
TZOFFSETTO:+0200
TZNAME:CEST
DTSTART:20260329T010000
END:DAYLIGHT
BEGIN:STANDARD
TZOFFSETFROM:+0200
TZOFFSETTO:+0100
TZNAME:CET
DTSTART:20261025T010000
END:STANDARD
END:VTIMEZONE
BEGIN:VEVENT
DTSTART;TZID=Europe/Berlin:20250422T183000
DTEND;TZID=Europe/Berlin:20250422T200000
DTSTAMP:20260421T104746
CREATED:20250315T170821Z
LAST-MODIFIED:20250315T170821Z
UID:7318-1745346600-1745352000@www.philosophie-milan.de
SUMMARY:Philosophy after Work
DESCRIPTION:Begegnung mit einem unbekannten Text.\nKönnen philosophische Schriften für uns\, in unserem Alltag heute\, fruchtbar sein? Haben solche Texte etwas mit mir zu tun? Die Lektüre kleiner Texte großer Philosophen soll zu einem gemeinsamen Gedankenaustausch anregen. Das Konzept sieht vor\, dass weder Autor noch Text im Vorfeld bekannt sind. Lassen Sie sich von einem Text unmittelbar ansprechen!\nAnmeldung erforderlich! \nAnmeldung bis spätestens 21. April. \nMindestens 6 Teilnehmende!
URL:https://www.philosophie-milan.de/veranstaltung/philosophy-after-work/
LOCATION:Haus Dacheröden\, Anger 37\, Erfurt\, 99084
CATEGORIES:Philosophy after Work
ATTACH;FMTTYPE=image/jpeg:https://www.philosophie-milan.de/wp-content/uploads/2021/04/Erfurt_Haus_Dacheroeden_Portal.jpg
ORGANIZER;CN="Philosophische Praxis MILAN in Zusammenarbeit mit dem Kultur Haus Dacher%C3%B6den%2C Erfurt":MAILTO:info@philosophie-milan.de
END:VEVENT
END:VCALENDAR